BEGIN:VCALENDAR

VERSION:2.0

PRODID:-//hacksw/handcal//NONSGML v1.0//EN

BEGIN:VEVENT

UID:94a0257e1d67900fb7bb524677636d5d

DTSTAMP:20200227T213000Z

DTSTART:20200229T124500

DTEND:20200229T130000

SUMMARY:8694887 - WILEY PARK, 2/16 Shadforth Street

END:VEVENT

END:VCALENDAR