BEGIN:VCALENDAR

VERSION:2.0

PRODID:-//hacksw/handcal//NONSGML v1.0//EN

BEGIN:VEVENT

UID:e3638150c015e98d40a293f6f96baa9b

DTSTAMP:20200227T212936Z

DTSTART:20200229T123000

DTEND:20200229T124000

SUMMARY:21689254 - PUNCHBOWL, 32A South Terrace

END:VEVENT

END:VCALENDAR