BEGIN:VCALENDAR

VERSION:2.0

PRODID:-//hacksw/handcal//NONSGML v1.0//EN

BEGIN:VEVENT

UID:3bb4a4fa71314e22f06c3adc8b2f7950

DTSTAMP:20200227T213030Z

DTSTART:20200229T111500

DTEND:20200229T113000

SUMMARY:7278726 - BANKSTOWN, 15/85-87 Chapel Road

END:VEVENT

END:VCALENDAR