BEGIN:VCALENDAR

VERSION:2.0

PRODID:-//hacksw/handcal//NONSGML v1.0//EN

BEGIN:VEVENT

UID:3f610124940f4ad8ef0d9b613a22863c

DTSTAMP:20200227T213052Z

DTSTART:20200229T110000

DTEND:20200229T111500

SUMMARY:21863654 - BANKSTOWN, 306/21-25 Leonard Street

END:VEVENT

END:VCALENDAR