BEGIN:VCALENDAR

VERSION:2.0

PRODID:-//hacksw/handcal//NONSGML v1.0//EN

BEGIN:VEVENT

UID:ca35e49f45ae115ff3659b61aa71d6f9

DTSTAMP:20200227T213115Z

DTSTART:20200229T104500

DTEND:20200229T110000

SUMMARY:18760093 - BANKSTOWN, 9/17 Rickard Road

END:VEVENT

END:VCALENDAR