BEGIN:VCALENDAR

VERSION:2.0

PRODID:-//hacksw/handcal//NONSGML v1.0//EN

BEGIN:VEVENT

UID:4f92a4f97d81bd0ff4161852f5018cd5

DTSTAMP:20200227T213134Z

DTSTART:20200229T103000

DTEND:20200229T104500

SUMMARY:6974267 - BANKSTOWN, 27 Allum Street

END:VEVENT

END:VCALENDAR