BEGIN:VCALENDAR

VERSION:2.0

PRODID:-//hacksw/handcal//NONSGML v1.0//EN

BEGIN:VEVENT

UID:9906fbf6a49a323cf2af5953e3349fd0

DTSTAMP:20200227T213155Z

DTSTART:20200229T101500

DTEND:20200229T103000

SUMMARY:21828750 - YAGOONA, 51 The Avenue

END:VEVENT

END:VCALENDAR